BEGIN:VCALENDAR
VERSION:2.0
PRODID:-//WiRED - ECPv6.2.3//NONSGML v1.0//EN
CALSCALE:GREGORIAN
METHOD:PUBLISH
X-WR-CALNAME:WiRED
X-ORIGINAL-URL:https://eu.bywired.com
X-WR-CALDESC:Events for WiRED
REFRESH-INTERVAL;VALUE=DURATION:PT1H
X-Robots-Tag:noindex
X-PUBLISHED-TTL:PT1H
BEGIN:VTIMEZONE
TZID:UTC
BEGIN:STANDARD
TZOFFSETFROM:+0000
TZOFFSETTO:+0000
TZNAME:UTC
DTSTART:20230101T000000
END:STANDARD
END:VTIMEZONE
BEGIN:VEVENT
DTSTART;VALUE=DATE:20231014
DTEND;VALUE=DATE:20231015
DTSTAMP:20260421T232824
CREATED:20230831T111406Z
LAST-MODIFIED:20230831T174932Z
UID:10000015-1697241600-1697327999@eu.bywired.com
SUMMARY:THE BLUEPRINT.™
DESCRIPTION:THE BLUEPRINT.™ returns for it’s 8th edition\, and here’s how the lineup for 2023 stacks up\n\nThis year marks the return of Dimuth K\, Berlin-based Borella makes her debut on the island\, while Sajay\, budi and Nigel Perera top-off the lineup for a high-class musical showcase on the shores of W15\, Weligama.\n\nGet your exclusive access below and don’t forget to book your accommodation.
URL:https://eu.bywired.com/event/the-blue-print/
CATEGORIES:Private Event
ATTACH;FMTTYPE=image/png:https://eu.bywired.com/wp-content/uploads/2023/08/BP-x-Wired-landscape-1.png
END:VEVENT
BEGIN:VEVENT
DTSTART;VALUE=DATE:20230730
DTEND;VALUE=DATE:20230731
DTSTAMP:20260421T232824
CREATED:20230715T130722Z
LAST-MODIFIED:20230818T231654Z
UID:10000010-1690675200-1690761599@eu.bywired.com
SUMMARY:Arugam Days By Wired
DESCRIPTION:THE BLUEPRINT.™ returns for it’s 8th edition\, and here’s how the lineup for 2023 stacks up\n\nThis year marks the return of Dimuth K\, Berlin-based Borella makes her debut on the island\, while Sajay\, budi and Nigel Perera top-off the lineup for a high-class musical showcase on the shores of W15\, Weligama.\n\nGet your exclusive access below and don’t forget to book your accommodation.
URL:https://eu.bywired.com/event/arugam-days-wired/
LOCATION:Atteriya Chill\, Arugam Bay
ATTACH;FMTTYPE=image/jpeg:https://eu.bywired.com/wp-content/uploads/2023/07/arugambay-event-img-closed-2.jpg
END:VEVENT
END:VCALENDAR